BEGIN:VCALENDAR
VERSION:2.0
PRODID:-//Springfield Urban League - ECPv6.15.17.1//NONSGML v1.0//EN
CALSCALE:GREGORIAN
METHOD:PUBLISH
X-WR-CALNAME:Springfield Urban League
X-ORIGINAL-URL:https://springfieldul.org
X-WR-CALDESC:Events for Springfield Urban League
REFRESH-INTERVAL;VALUE=DURATION:PT1H
X-Robots-Tag:noindex
X-PUBLISHED-TTL:PT1H
BEGIN:VTIMEZONE
TZID:America/Chicago
BEGIN:DAYLIGHT
TZOFFSETFROM:-0600
TZOFFSETTO:-0500
TZNAME:CDT
DTSTART:20250309T080000
END:DAYLIGHT
BEGIN:STANDARD
TZOFFSETFROM:-0500
TZOFFSETTO:-0600
TZNAME:CST
DTSTART:20251102T070000
END:STANDARD
BEGIN:DAYLIGHT
TZOFFSETFROM:-0600
TZOFFSETTO:-0500
TZNAME:CDT
DTSTART:20260308T080000
END:DAYLIGHT
BEGIN:STANDARD
TZOFFSETFROM:-0500
TZOFFSETTO:-0600
TZNAME:CST
DTSTART:20261101T070000
END:STANDARD
BEGIN:DAYLIGHT
TZOFFSETFROM:-0600
TZOFFSETTO:-0500
TZNAME:CDT
DTSTART:20270314T080000
END:DAYLIGHT
BEGIN:STANDARD
TZOFFSETFROM:-0500
TZOFFSETTO:-0600
TZNAME:CST
DTSTART:20271107T070000
END:STANDARD
END:VTIMEZONE
BEGIN:VEVENT
DTSTART;TZID=America/Chicago:20260422T090000
DTEND;TZID=America/Chicago:20260422T163000
DTSTAMP:20260422T012818
CREATED:20251010T152009Z
LAST-MODIFIED:20260227T222723Z
UID:10000037-1776848400-1776875400@springfieldul.org
SUMMARY:Better Birth Outcomes – Comprehensive (BBO-C) & Navigation (BBO-N) Program
DESCRIPTION:State and local agency personnel working as Navigator(s) with the Better Birth Outcomes – Comprehensive (BBO-C) & Better Birth Outcomes – Navigation (BBO-N) Programs. \nRegistration for this course closes one week prior to the training date. \n\n\n\nCourse Length 1 day\nClass Times 09:00 AM – 04:30 PM\n\n\nCourse Description \n\nPurpose: To enable the learner to have the knowledge and skills required to meet program standards in the policies\, practices and procedures of the Better Birth Outcomes programs. This virtual and/or in-person training is designed to give new program navigators an overview of the program and cover each step of the services provided: client identification or outreach; assessment; service planning and resource identification; linking clients to services and coordination; monitoring services; advocacy and evaluation. \n**Attendees are required to complete 3 web-based modules prior to the face-to-face portion of the training.**
URL:https://springfieldul.org/event/better-birth-outcomes-comprehensive-bbo-c-navigation-bbo-n-program-15/
LOCATION:Springfield\, 100 North 11th St\, Springfield\, IL\, 67203\, United States
CATEGORIES:Better Birth Outcomes – Comprehensive (BBO-C) & Navigation (BBO-N) Program,Bureau of Maternal & Child Health,CHTC
END:VEVENT
END:VCALENDAR